BEGIN:VCALENDAR
VERSION:2.0
PRODID:-//hacksw/handcal//NONSGML v1.0//EN
BEGIN:VEVENT
DTSTAMP:20260602T170000Z
DTSTART:20260602T170000Z
DTEND:20260602T170000Z
LOCATION:Bürger - und Sportzentrum, Dorfstr. 39, Flintbek, 24220, Deutschland
SUMMARY:Mit Populisten reden?!
END:VEVENT
END:VCALENDAR
